BEGIN:VCALENDAR
VERSION:2.0
PRODID:-//Tukios.com/
BEGIN:VEVENT
UID:402878c1-7e53-403f-8f55-a24abd11c6df@www.thomasfamilyfuneralhome.com
DTSTAMP:20260421T190635Z
DTSTART:20260502T200000Z
DTEND:20260502T210000Z
SUMMARY:Funeral Service
DESCRIPTION:
URL:https://www.thomasfamilyfuneralhome.com/obituaries/wesley-hay
LOCATION: 710 46th Avenue Northeast  Minot ND 58703
GEO:48.2828178;-101.2836608
END:VEVENT
END:VCALENDAR