BEGIN:VCALENDAR
VERSION:2.0
PRODID:-//Tukios.com/
BEGIN:VEVENT
UID:0538ab3b-2e59-4876-9495-cea90e3a05d9@www.thomasfamilyfuneralhome.com
DTSTAMP:20260425T181806Z
DTSTART:20260430T160000Z
DTEND:20260430T170000Z
SUMMARY:Celebration of Life
DESCRIPTION:
URL:https://www.thomasfamilyfuneralhome.com/obituaries/tony-stewart
LOCATION: 502 17th Street Northwest  Minot ND 58703
GEO:48.242126;-101.318633
END:VEVENT
END:VCALENDAR