BEGIN:VCALENDAR
VERSION:2.0
PRODID:-//Tukios.com/
BEGIN:VEVENT
UID:e224e9c8-4c31-4de1-a8d5-3758643afbe7@www.thomasfamilyfuneralhome.com
DTSTAMP:20260422T230521Z
DTSTART:20260430T200000Z
DTEND:20260430T220000Z
SUMMARY:Booksigning
DESCRIPTION:
URL:https://www.thomasfamilyfuneralhome.com/obituaries/robert-watts
LOCATION: 304 Main St S  Minot ND 58701
GEO:48.2331649;-101.2934892
END:VEVENT
END:VCALENDAR