BEGIN:VCALENDAR
VERSION:2.0
PRODID:-//Tukios.com/
BEGIN:VEVENT
UID:7c7d87ee-a920-4778-8acc-3c468bd8540c@www.thomasfamilyfuneralhome.com
DTSTAMP:20260422T231028Z
DTSTART:20260424T150000Z
DTEND:20260424T160000Z
SUMMARY:Graveside Service
DESCRIPTION:
URL:https://www.thomasfamilyfuneralhome.com/obituaries/robert-watts
LOCATION:Butte Cemetery County Road 33 47.84681, -100.66154 Butte ND 
	58723
GEO:47.8363279;-100.665662
END:VEVENT
END:VCALENDAR